Package: phantasus Version: 1.26.0 Command: /Library/Frameworks/R.framework/Resources/bin/R CMD check --install=check:phantasus.install-out.txt --library=/Library/Frameworks/R.framework/Resources/library --no-vignettes --timings phantasus_1.26.0.tar.gz StartedAt: 2025-02-11 08:17:59 -0500 (Tue, 11 Feb 2025) EndedAt: 2025-02-11 08:29:38 -0500 (Tue, 11 Feb 2025) EllapsedTime: 698.6 seconds RetCode: 0 Status: OK CheckDir: phantasus.Rcheck Warnings: 0