Package: phantasus Version: 1.26.0 Command: /Library/Frameworks/R.framework/Resources/bin/R CMD INSTALL phantasus StartedAt: 2025-02-03 16:16:43 -0500 (Mon, 03 Feb 2025) EndedAt: 2025-02-03 16:17:55 -0500 (Mon, 03 Feb 2025) EllapsedTime: 72.2 seconds RetCode: 0 Status: OK