Package: phantasus Version: 1.26.0 Command: /home/biocbuild/bbs-3.20-bioc/R/bin/R CMD build --keep-empty-dirs --no-resave-data --md5 phantasus StartedAt: 2025-02-03 18:43:24 -0500 (Mon, 03 Feb 2025) EndedAt: 2025-02-03 18:44:03 -0500 (Mon, 03 Feb 2025) EllapsedTime: 39.0 seconds RetCode: 0 Status: OK PackageFile: phantasus_1.26.0.tar.gz PackageFileSize: 9.55 MiB