Package: phantasus Version: 1.26.0 Command: rm -rf phantasus.buildbin-libdir && mkdir phantasus.buildbin-libdir && F:\biocbuild\bbs-3.20-bioc\R\bin\R.exe CMD INSTALL --build --library=phantasus.buildbin-libdir phantasus_1.26.0.tar.gz StartedAt: 2025-02-04 09:10:03 -0500 (Tue, 04 Feb 2025) EndedAt: 2025-02-04 09:11:05 -0500 (Tue, 04 Feb 2025) EllapsedTime: 62.4 seconds RetCode: 0 Status: OK PackageFile: phantasus_1.26.0.zip PackageFileSize: 8.318 MiB