Package: phantasusLite Version: 1.4.0 Command: /Library/Frameworks/R.framework/Resources/bin/R CMD build --keep-empty-dirs --no-resave-data phantasusLite StartedAt: 2025-01-31 05:19:26 -0500 (Fri, 31 Jan 2025) EndedAt: 2025-01-31 05:20:35 -0500 (Fri, 31 Jan 2025) EllapsedTime: 68.8 seconds RetCode: 0 Status: OK PackageFile: phantasusLite_1.4.0.tar.gz PackageFileSize: 233.4 KiB