Package: phantasusLite Version: 1.4.0 Command: /Library/Frameworks/R.framework/Resources/bin/R CMD INSTALL phantasusLite StartedAt: 2025-01-30 15:19:28 -0500 (Thu, 30 Jan 2025) EndedAt: 2025-01-30 15:19:48 -0500 (Thu, 30 Jan 2025) EllapsedTime: 20.1 seconds RetCode: 0 Status: OK