Package: phantasusLite Version: 1.4.0 Command: /home/biocbuild/bbs-3.20-bioc/R/bin/R CMD INSTALL phantasusLite StartedAt: 2025-02-03 15:19:03 -0500 (Mon, 03 Feb 2025) EndedAt: 2025-02-03 15:19:18 -0500 (Mon, 03 Feb 2025) EllapsedTime: 15.8 seconds RetCode: 0 Status: OK