Package: phantasusLite Version: 1.4.0 Command: /home/biocbuild/R/R/bin/R CMD build --keep-empty-dirs --no-resave-data phantasusLite StartedAt: 2025-02-04 01:49:35 -0000 (Tue, 04 Feb 2025) EndedAt: 2025-02-04 01:51:08 -0000 (Tue, 04 Feb 2025) EllapsedTime: 93.1 seconds RetCode: 0 Status: OK PackageFile: phantasusLite_1.4.0.tar.gz PackageFileSize: 259.2 KiB