Package: phenomis Version: 1.8.0 Command: /Library/Frameworks/R.framework/Resources/bin/R CMD build --keep-empty-dirs --no-resave-data phenomis StartedAt: 2025-01-31 05:20:35 -0500 (Fri, 31 Jan 2025) EndedAt: 2025-01-31 05:22:23 -0500 (Fri, 31 Jan 2025) EllapsedTime: 107.9 seconds RetCode: 0 Status: OK PackageFile: phenomis_1.8.0.tar.gz PackageFileSize: 3.935 MiB