Package: phenomis Version: 1.8.0 Command: /Library/Frameworks/R.framework/Resources/bin/R CMD check --install=check:phenomis.install-out.txt --library=/Library/Frameworks/R.framework/Resources/library --no-vignettes --timings phenomis_1.8.0.tar.gz StartedAt: 2025-02-01 04:37:47 -0500 (Sat, 01 Feb 2025) EndedAt: 2025-02-01 04:43:42 -0500 (Sat, 01 Feb 2025) EllapsedTime: 355.3 seconds RetCode: 0 Status: OK CheckDir: phenomis.Rcheck Warnings: 0