Package: phenomis Version: 1.8.0 Command: /Library/Frameworks/R.framework/Resources/bin/R CMD INSTALL phenomis StartedAt: 2025-02-03 16:40:26 -0500 (Mon, 03 Feb 2025) EndedAt: 2025-02-03 16:41:50 -0500 (Mon, 03 Feb 2025) EllapsedTime: 84.5 seconds RetCode: 0 Status: OK