Package: phenomis Version: 1.8.0 Command: /home/biocbuild/R/R/bin/R CMD build --keep-empty-dirs --no-resave-data phenomis StartedAt: 2025-01-31 01:45:05 -0000 (Fri, 31 Jan 2025) EndedAt: 2025-01-31 01:47:04 -0000 (Fri, 31 Jan 2025) EllapsedTime: 118.1 seconds RetCode: 0 Status: OK PackageFile: phenomis_1.8.0.tar.gz PackageFileSize: 2.047 MiB