Package: phenopath Version: 1.30.0 Command: rm -rf phenopath.buildbin-libdir && mkdir phenopath.buildbin-libdir && /Users/biocbuild/BBS/utils/build-universal.sh phenopath_1.30.0.tar.gz /Library/Frameworks/R.framework/Resources/bin/R phenopath.buildbin-libdir StartedAt: 2025-02-11 14:06:49 -0500 (Tue, 11 Feb 2025) EndedAt: 2025-02-11 14:08:30 -0500 (Tue, 11 Feb 2025) EllapsedTime: 100.7 seconds RetCode: 0 Status: OK PackageFile: phenopath_1.30.0.tgz PackageFileSize: 1.012 MiB