Package: phenopath Version: 1.30.0 Command: /Library/Frameworks/R.framework/Resources/bin/R CMD build --keep-empty-dirs --no-resave-data phenopath StartedAt: 2025-02-03 21:16:33 -0500 (Mon, 03 Feb 2025) EndedAt: 2025-02-03 21:18:25 -0500 (Mon, 03 Feb 2025) EllapsedTime: 111.8 seconds RetCode: 0 Status: OK PackageFile: phenopath_1.30.0.tar.gz PackageFileSize: 1.306 MiB