Package: phenopath Version: 1.30.0 Command: rm -rf phenopath.buildbin-libdir && mkdir phenopath.buildbin-libdir && F:\biocbuild\bbs-3.20-bioc\R\bin\R.exe CMD INSTALL --build --library=phenopath.buildbin-libdir phenopath_1.30.0.tar.gz StartedAt: 2025-01-31 09:16:26 -0500 (Fri, 31 Jan 2025) EndedAt: 2025-01-31 09:17:08 -0500 (Fri, 31 Jan 2025) EllapsedTime: 41.3 seconds RetCode: 0 Status: OK PackageFile: phenopath_1.30.0.zip PackageFileSize: 1.125 MiB