Package: phenopath Version: 1.30.0 Command: chmod a+r phenopath -R && F:\biocbuild\bbs-3.20-bioc\R\bin\R.exe CMD build --keep-empty-dirs --no-resave-data phenopath StartedAt: 2025-01-30 20:57:24 -0500 (Thu, 30 Jan 2025) EndedAt: 2025-01-30 20:58:22 -0500 (Thu, 30 Jan 2025) EllapsedTime: 58.0 seconds RetCode: 0 Status: OK PackageFile: phenopath_1.30.0.tar.gz PackageFileSize: 1.101 MiB