Package: phenopath Version: 1.30.0 Command: F:\biocbuild\bbs-3.20-bioc\R\bin\R.exe CMD INSTALL phenopath StartedAt: 2025-01-30 15:56:28 -0500 (Thu, 30 Jan 2025) EndedAt: 2025-01-30 15:57:10 -0500 (Thu, 30 Jan 2025) EllapsedTime: 42.5 seconds RetCode: 0 Status: OK