Package: phenopath Version: 1.30.0 Command: /home/biocbuild/R/R/bin/R CMD build --keep-empty-dirs --no-resave-data phenopath StartedAt: 2025-01-31 01:45:40 -0000 (Fri, 31 Jan 2025) EndedAt: 2025-01-31 01:46:46 -0000 (Fri, 31 Jan 2025) EllapsedTime: 66.1 seconds RetCode: 0 Status: OK PackageFile: phenopath_1.30.0.tar.gz PackageFileSize: 1.173 MiB