Package: phosphonormalizer Version: 1.30.0 Command: rm -rf phosphonormalizer.buildbin-libdir && mkdir phosphonormalizer.buildbin-libdir && /Users/biocbuild/BBS/utils/build-universal.sh phosphonormalizer_1.30.0.tar.gz /Library/Frameworks/R.framework/Resources/bin/R phosphonormalizer.buildbin-libdir StartedAt: 2025-02-04 13:46:46 -0500 (Tue, 04 Feb 2025) EndedAt: 2025-02-04 13:46:59 -0500 (Tue, 04 Feb 2025) EllapsedTime: 13.0 seconds RetCode: 0 Status: OK PackageFile: phosphonormalizer_1.30.0.tgz PackageFileSize: 2.716 MiB