Package: phosphonormalizer Version: 1.30.0 Command: /Library/Frameworks/R.framework/Resources/bin/R CMD build --keep-empty-dirs --no-resave-data phosphonormalizer StartedAt: 2025-02-03 21:17:05 -0500 (Mon, 03 Feb 2025) EndedAt: 2025-02-03 21:17:30 -0500 (Mon, 03 Feb 2025) EllapsedTime: 24.2 seconds RetCode: 0 Status: OK PackageFile: phosphonormalizer_1.30.0.tar.gz PackageFileSize: 2.7 MiB