Package: phyloseq Version: 1.50.0 Command: rm -rf phyloseq.buildbin-libdir && mkdir phyloseq.buildbin-libdir && /Users/biocbuild/BBS/utils/build-universal.sh phyloseq_1.50.0.tar.gz /Library/Frameworks/R.framework/Resources/bin/R phyloseq.buildbin-libdir StartedAt: 2024-11-20 04:42:33 -0500 (Wed, 20 Nov 2024) EndedAt: 2024-11-20 04:43:16 -0500 (Wed, 20 Nov 2024) EllapsedTime: 43.1 seconds RetCode: 0 Status: OK PackageFile: phyloseq_1.50.0.tgz PackageFileSize: 6.361 MiB