Package: phyloseq Version: 1.50.0 Command: /Library/Frameworks/R.framework/Resources/bin/R CMD INSTALL phyloseq StartedAt: 2024-11-19 15:36:51 -0500 (Tue, 19 Nov 2024) EndedAt: 2024-11-19 15:37:29 -0500 (Tue, 19 Nov 2024) EllapsedTime: 37.7 seconds RetCode: 0 Status: OK