Package: phyloseq Version: 1.50.0 Command: rm -rf phyloseq.buildbin-libdir && mkdir phyloseq.buildbin-libdir && /Users/biocbuild/BBS/utils/build-universal.sh phyloseq_1.50.0.tar.gz /Library/Frameworks/R.framework/Resources/bin/R phyloseq.buildbin-libdir StartedAt: 2025-01-31 13:23:01 -0500 (Fri, 31 Jan 2025) EndedAt: 2025-01-31 13:24:05 -0500 (Fri, 31 Jan 2025) EllapsedTime: 63.7 seconds RetCode: 0 Status: OK PackageFile: phyloseq_1.50.0.tgz PackageFileSize: 6.389 MiB