Package: phyloseq Version: 1.50.0 Command: /Library/Frameworks/R.framework/Resources/bin/R CMD build --keep-empty-dirs --no-resave-data phyloseq StartedAt: 2025-01-30 21:50:50 -0500 (Thu, 30 Jan 2025) EndedAt: 2025-01-30 21:54:41 -0500 (Thu, 30 Jan 2025) EllapsedTime: 231.2 seconds RetCode: 0 Status: OK PackageFile: phyloseq_1.50.0.tar.gz PackageFileSize: 6.073 MiB