Package: phyloseq Version: 1.50.0 Command: /home/biocbuild/bbs-3.20-bioc/R/bin/R CMD check --install=check:phyloseq.install-out.txt --library=/home/biocbuild/bbs-3.20-bioc/R/site-library --timings phyloseq_1.50.0.tar.gz StartedAt: 2025-01-31 01:02:46 -0500 (Fri, 31 Jan 2025) EndedAt: 2025-01-31 01:08:05 -0500 (Fri, 31 Jan 2025) EllapsedTime: 319.4 seconds RetCode: 0 Status: WARNINGS CheckDir: phyloseq.Rcheck Warnings: 1