Package: phyloseq Version: 1.50.0 Command: /home/biocbuild/bbs-3.20-bioc/R/bin/R CMD INSTALL phyloseq StartedAt: 2025-01-30 15:47:41 -0500 (Thu, 30 Jan 2025) EndedAt: 2025-01-30 15:48:06 -0500 (Thu, 30 Jan 2025) EllapsedTime: 25.4 seconds RetCode: 0 Status: OK