Package: phyloseq Version: 1.50.0 Command: F:\biocbuild\bbs-3.20-bioc\R\bin\R.exe CMD check --no-multiarch --install=check:phyloseq.install-out.txt --library=F:\biocbuild\bbs-3.20-bioc\R\library --no-vignettes --timings phyloseq_1.50.0.tar.gz StartedAt: 2025-01-31 05:04:44 -0500 (Fri, 31 Jan 2025) EndedAt: 2025-01-31 05:10:11 -0500 (Fri, 31 Jan 2025) EllapsedTime: 326.7 seconds RetCode: 0 Status: WARNINGS CheckDir: phyloseq.Rcheck Warnings: 1