Package: phyloseq Version: 1.50.0 Command: /home/biocbuild/R/R/bin/R CMD INSTALL phyloseq StartedAt: 2025-01-30 20:54:28 -0000 (Thu, 30 Jan 2025) EndedAt: 2025-01-30 20:55:01 -0000 (Thu, 30 Jan 2025) EllapsedTime: 32.4 seconds RetCode: 0 Status: OK