Package: piano Version: 2.22.0 Command: /Library/Frameworks/R.framework/Resources/bin/R CMD build --keep-empty-dirs --no-resave-data piano StartedAt: 2025-02-11 05:29:52 -0500 (Tue, 11 Feb 2025) EndedAt: 2025-02-11 05:30:41 -0500 (Tue, 11 Feb 2025) EllapsedTime: 49.1 seconds RetCode: 0 Status: OK PackageFile: piano_2.22.0.tar.gz PackageFileSize: 1.542 MiB