Package: piano Version: 2.22.0 Command: /Library/Frameworks/R.framework/Resources/bin/R CMD INSTALL piano StartedAt: 2025-02-10 17:13:08 -0500 (Mon, 10 Feb 2025) EndedAt: 2025-02-10 17:13:25 -0500 (Mon, 10 Feb 2025) EllapsedTime: 16.8 seconds RetCode: 0 Status: OK