Package: piano Version: 2.22.0 Command: rm -rf piano.buildbin-libdir && mkdir piano.buildbin-libdir && /Users/biocbuild/BBS/utils/build-universal.sh piano_2.22.0.tar.gz /Library/Frameworks/R.framework/Resources/bin/R piano.buildbin-libdir StartedAt: 2025-01-31 13:23:02 -0500 (Fri, 31 Jan 2025) EndedAt: 2025-01-31 13:23:38 -0500 (Fri, 31 Jan 2025) EllapsedTime: 36.1 seconds RetCode: 0 Status: OK PackageFile: piano_2.22.0.tgz PackageFileSize: 1.642 MiB