Package: piano Version: 2.22.0 Command: /Library/Frameworks/R.framework/Resources/bin/R CMD build --keep-empty-dirs --no-resave-data piano StartedAt: 2025-01-30 21:51:16 -0500 (Thu, 30 Jan 2025) EndedAt: 2025-01-30 21:53:03 -0500 (Thu, 30 Jan 2025) EllapsedTime: 107.2 seconds RetCode: 0 Status: OK PackageFile: piano_2.22.0.tar.gz PackageFileSize: 1.542 MiB