Package: piano Version: 2.22.0 Command: _R_CHECK_FORCE_SUGGESTS_=0 /Library/Frameworks/R.framework/Resources/bin/R CMD check --install=check:piano.install-out.txt --library=/Library/Frameworks/R.framework/Resources/library --no-vignettes --timings piano_2.22.0.tar.gz StartedAt: 2025-02-04 07:59:06 -0500 (Tue, 04 Feb 2025) EndedAt: 2025-02-04 08:03:53 -0500 (Tue, 04 Feb 2025) EllapsedTime: 286.9 seconds RetCode: 0 Status: OK CheckDir: piano.Rcheck Warnings: 0