Package: piano Version: 2.22.0 Command: /Library/Frameworks/R.framework/Resources/bin/R CMD INSTALL piano StartedAt: 2025-01-30 16:12:59 -0500 (Thu, 30 Jan 2025) EndedAt: 2025-01-30 16:13:34 -0500 (Thu, 30 Jan 2025) EllapsedTime: 35.3 seconds RetCode: 0 Status: OK