Package: piano Version: 2.22.0 Command: chmod a+r piano -R && F:\biocbuild\bbs-3.20-bioc\R\bin\R.exe CMD build --keep-empty-dirs --no-resave-data piano StartedAt: 2025-01-30 20:58:51 -0500 (Thu, 30 Jan 2025) EndedAt: 2025-01-30 20:59:44 -0500 (Thu, 30 Jan 2025) EllapsedTime: 53.1 seconds RetCode: 0 Status: OK PackageFile: piano_2.22.0.tar.gz PackageFileSize: 1.534 MiB