Package: pickgene Version: 1.78.0 Command: /Library/Frameworks/R.framework/Resources/bin/R CMD build --keep-empty-dirs --no-resave-data pickgene StartedAt: 2025-01-31 05:24:01 -0500 (Fri, 31 Jan 2025) EndedAt: 2025-01-31 05:24:10 -0500 (Fri, 31 Jan 2025) EllapsedTime: 9.2 seconds RetCode: 0 Status: OK PackageFile: pickgene_1.78.0.tar.gz PackageFileSize: 305.3 KiB