Package: pickgene Version: 1.78.0 Command: /Library/Frameworks/R.framework/Resources/bin/R CMD INSTALL pickgene StartedAt: 2025-01-30 15:06:15 -0500 (Thu, 30 Jan 2025) EndedAt: 2025-01-30 15:06:19 -0500 (Thu, 30 Jan 2025) EllapsedTime: 4.3 seconds RetCode: 0 Status: OK