Package: pickgene Version: 1.78.0 Command: /Library/Frameworks/R.framework/Resources/bin/R CMD build --keep-empty-dirs --no-resave-data pickgene StartedAt: 2025-01-30 21:51:30 -0500 (Thu, 30 Jan 2025) EndedAt: 2025-01-30 21:51:47 -0500 (Thu, 30 Jan 2025) EllapsedTime: 17.8 seconds RetCode: 0 Status: OK PackageFile: pickgene_1.78.0.tar.gz PackageFileSize: 305.2 KiB