Package: pickgene Version: 1.78.0 Command: /home/biocbuild/bbs-3.20-bioc/R/bin/R CMD build --keep-empty-dirs --no-resave-data --md5 pickgene StartedAt: 2025-02-03 18:44:26 -0500 (Mon, 03 Feb 2025) EndedAt: 2025-02-03 18:44:31 -0500 (Mon, 03 Feb 2025) EllapsedTime: 5.0 seconds RetCode: 0 Status: OK PackageFile: pickgene_1.78.0.tar.gz PackageFileSize: 306.1 KiB