Package: pickgene Version: 1.78.0 Command: chmod a+r pickgene -R && F:\biocbuild\bbs-3.20-bioc\R\bin\R.exe CMD build --keep-empty-dirs --no-resave-data pickgene StartedAt: 2025-01-30 20:58:55 -0500 (Thu, 30 Jan 2025) EndedAt: 2025-01-30 20:59:05 -0500 (Thu, 30 Jan 2025) EllapsedTime: 10.0 seconds RetCode: 0 Status: OK PackageFile: pickgene_1.78.0.tar.gz PackageFileSize: 196.2 KiB