Package: pipeFrame Version: 1.22.0 Command: /Library/Frameworks/R.framework/Resources/bin/R CMD build --keep-empty-dirs --no-resave-data pipeFrame StartedAt: 2025-02-04 05:34:05 -0500 (Tue, 04 Feb 2025) EndedAt: 2025-02-04 05:35:11 -0500 (Tue, 04 Feb 2025) EllapsedTime: 66.2 seconds RetCode: 0 Status: OK PackageFile: pipeFrame_1.22.0.tar.gz PackageFileSize: 1.195 MiB