Package: pipeFrame Version: 1.22.0 Command: rm -rf pipeFrame.buildbin-libdir && mkdir pipeFrame.buildbin-libdir && /Users/biocbuild/BBS/utils/build-universal.sh pipeFrame_1.22.0.tar.gz /Library/Frameworks/R.framework/Resources/bin/R pipeFrame.buildbin-libdir StartedAt: 2025-02-11 14:07:42 -0500 (Tue, 11 Feb 2025) EndedAt: 2025-02-11 14:09:34 -0500 (Tue, 11 Feb 2025) EllapsedTime: 112.1 seconds RetCode: 0 Status: OK PackageFile: pipeFrame_1.22.0.tgz PackageFileSize: 1.075 MiB