Package: pipeFrame Version: 1.22.0 Command: /Library/Frameworks/R.framework/Resources/bin/R CMD check --install=check:pipeFrame.install-out.txt --library=/Library/Frameworks/R.framework/Resources/library --no-vignettes --timings pipeFrame_1.22.0.tar.gz StartedAt: 2025-02-04 08:01:36 -0500 (Tue, 04 Feb 2025) EndedAt: 2025-02-04 08:10:40 -0500 (Tue, 04 Feb 2025) EllapsedTime: 543.7 seconds RetCode: 0 Status: OK CheckDir: pipeFrame.Rcheck Warnings: 0