Package: pipeFrame Version: 1.22.0 Command: rm -rf pipeFrame.buildbin-libdir && mkdir pipeFrame.buildbin-libdir && F:\biocbuild\bbs-3.20-bioc\R\bin\R.exe CMD INSTALL --build --library=pipeFrame.buildbin-libdir pipeFrame_1.22.0.tar.gz StartedAt: 2025-02-04 09:11:15 -0500 (Tue, 04 Feb 2025) EndedAt: 2025-02-04 09:12:32 -0500 (Tue, 04 Feb 2025) EllapsedTime: 77.4 seconds RetCode: 0 Status: OK PackageFile: pipeFrame_1.22.0.zip PackageFileSize: 1.08 MiB