Package: pipeFrame Version: 1.22.0 Command: F:\biocbuild\bbs-3.20-bioc\R\bin\R.exe CMD INSTALL pipeFrame StartedAt: 2025-02-03 16:47:36 -0500 (Mon, 03 Feb 2025) EndedAt: 2025-02-03 16:48:38 -0500 (Mon, 03 Feb 2025) EllapsedTime: 62.2 seconds RetCode: 0 Status: OK