Package: pipeFrame Version: 1.22.0 Command: /home/biocbuild/R/R/bin/R CMD INSTALL pipeFrame StartedAt: 2025-02-03 20:52:39 -0000 (Mon, 03 Feb 2025) EndedAt: 2025-02-03 20:53:19 -0000 (Mon, 03 Feb 2025) EllapsedTime: 40.4 seconds RetCode: 0 Status: OK