Package: planttfhunter Version: 1.6.0 Command: /Library/Frameworks/R.framework/Resources/bin/R CMD INSTALL planttfhunter StartedAt: 2024-11-19 15:10:49 -0500 (Tue, 19 Nov 2024) EndedAt: 2024-11-19 15:11:22 -0500 (Tue, 19 Nov 2024) EllapsedTime: 33.1 seconds RetCode: 0 Status: OK