Package: plier Version: 1.76.0 Command: /Library/Frameworks/R.framework/Resources/bin/R CMD check --install=check:plier.install-out.txt --library=/Library/Frameworks/R.framework/Resources/library --no-vignettes --timings plier_1.76.0.tar.gz StartedAt: 2025-02-04 08:05:04 -0500 (Tue, 04 Feb 2025) EndedAt: 2025-02-04 08:06:02 -0500 (Tue, 04 Feb 2025) EllapsedTime: 58.6 seconds RetCode: 0 Status: WARNINGS CheckDir: plier.Rcheck Warnings: 1