Package: plier Version: 1.76.0 Command: /home/biocbuild/bbs-3.20-bioc/R/bin/R CMD build --keep-empty-dirs --no-resave-data --md5 plier StartedAt: 2025-02-03 18:45:00 -0500 (Mon, 03 Feb 2025) EndedAt: 2025-02-03 18:45:01 -0500 (Mon, 03 Feb 2025) EllapsedTime: 1.0 seconds RetCode: 0 Status: OK PackageFile: plier_1.76.0.tar.gz PackageFileSize: 20.84 KiB