Package: plier Version: 1.76.0 Command: /home/biocbuild/bbs-3.20-bioc/R/bin/R CMD INSTALL plier StartedAt: 2025-02-03 15:15:38 -0500 (Mon, 03 Feb 2025) EndedAt: 2025-02-03 15:15:46 -0500 (Mon, 03 Feb 2025) EllapsedTime: 7.5 seconds RetCode: 0 Status: OK